BEGIN:VCALENDAR
VERSION:2.0
PRODID:-//Drupal iCal API//EN
X-WR-CALNAME:Calendar of Events
X-WR-TIMEZONE:America/Chicago
BEGIN:VTIMEZONE
TZID:America/Chicago
X-LIC-LOCATION:America/Chicago
BEGIN:DAYLIGHT
TZNAME:CDT
TZOFFSETFROM:-0600
TZOFFSETTO:-0500
DTSTART:20250309T080000
END:DAYLIGHT
BEGIN:STANDARD
TZNAME:CST
TZOFFSETFROM:-0500
TZOFFSETTO:-0600
DTSTART:20251102T070000
END:STANDARD
END:VTIMEZONE
BEGIN:VEVENT
UID:fa644c9a-79df-401e-86c8-35bbe328eba0
DTSTART;TZID=America/Chicago:20260305T183000
SEQUENCE:0
TRANSP:TRANSPARENT
DTEND;TZID=America/Chicago:20260305T200000
SUMMARY:Something Rotten! Jr.
CLASS:PUBLIC
DESCRIPTION:Body \n\n \n\nSomething Rotten! Jr.\n\nTickets $5\n\nHAMLET CA
 ST \n\nMarch 5:  6:30 pm\n\nMarch 7:  6:30 pm\n\nOmelette Cast\n\nMarch
   6: 6:30 pm\n\nMarch 7:  2:30 pm\n\nLINK TO PURCHASE TICKETS\n[https://
 bailey.myschoolcentral.com/index.aspx#/240/product/2507]\n\nBook by\n\nKar
 ey Kirkpatrick and John O’Farrell\n\n \n\nMusic & Lyrics by\n\nWayne Ki
 rkpatrick and Karey Kirkpatrick\n\n \n\nConceived by\n\nKarey Kirkpatrick
  and Wayne Kirkpatrick\n\n \n\nOrchestrations     Arrangements\n\nLarry
  Hockman          Glen Kelly\n\n \n\n      Director       
               Music Director\n\n  Christina Pozzi           
           Darcy Williams\n\n \n\nSomething Rotten? Produced on Broad
 way by Kevin McCollum\n\nBroadway Global Ventures   CMC   Mastro/Goodman
    Jerry & Ronald\nFrankel   Morris Berchard\n\nKyodo Tokyo\, Inc.   We
 ndy Federman   Barbara Freitag   LAMS\nProductions   Winkler/DeSimone\n
 \nTimothy Lacynski   Dan Markley   Harris/Karmazin   Jam Theatricals\n
   Robert Greenblatt\n\nAnd  Jujamcyn Theaters\n\n \n\nDeveloped in asso
 ciation with the 5th Avenue Theatre\, Seattle\, WA\,\nDavid Armstrong\, Ex
 ecutive Producer and Artistic Director\, Bernadine\nGriffin\, Managing Dir
 ector and Bill Berry\, Producing \n\nArtistic Director\n\n 
RRULE:FREQ=DAILY;INTERVAL=1;UNTIL=20260306T235959Z;BYDAY=TH,FR
DTSTAMP:20260421T082703Z
END:VEVENT
END:VCALENDAR