BEGIN:VCALENDAR
VERSION:2.0
PRODID:-//Drupal iCal API//EN
X-WR-CALNAME:Calendar of Events
X-WR-TIMEZONE:America/Chicago
BEGIN:VTIMEZONE
TZID:America/Chicago
X-LIC-LOCATION:America/Chicago
BEGIN:DAYLIGHT
TZNAME:CDT
TZOFFSETFROM:-0600
TZOFFSETTO:-0500
DTSTART:20250309T080000
END:DAYLIGHT
BEGIN:STANDARD
TZNAME:CST
TZOFFSETFROM:-0500
TZOFFSETTO:-0600
DTSTART:20241103T070000
END:STANDARD
END:VTIMEZONE
BEGIN:VEVENT
UID:21e40516-d435-4476-a720-7aa02527c4d2
DTSTART;TZID=America/Chicago:20250924T040000
SEQUENCE:0
TRANSP:TRANSPARENT
DTEND;TZID=America/Chicago:20250924T053000
SUMMARY:Theater UIL Rehearsal
CLASS:PUBLIC
DESCRIPTION:Body \n\nCafeteria
RRULE:FREQ=DAILY;INTERVAL=1;UNTIL=20251009T235959Z;BYDAY=MO,TU,WE,TH
DTSTAMP:20260421T082734Z
END:VEVENT
END:VCALENDAR