BEGIN:VCALENDAR
VERSION:2.0
PRODID:-//Drupal iCal API//EN
X-WR-CALNAME:Calendar of Events
X-WR-TIMEZONE:America/Chicago
BEGIN:VTIMEZONE
TZID:America/Chicago
X-LIC-LOCATION:America/Chicago
BEGIN:DAYLIGHT
TZNAME:CDT
TZOFFSETFROM:-0600
TZOFFSETTO:-0500
DTSTART:20250309T080000
END:DAYLIGHT
BEGIN:STANDARD
TZNAME:CST
TZOFFSETFROM:-0500
TZOFFSETTO:-0600
DTSTART:20251102T070000
END:STANDARD
END:VTIMEZONE
BEGIN:VEVENT
UID:e71f0ae6-63cf-41bb-9506-af5ab0555435
DTSTART;TZID=America/Chicago:20260305T083000
SEQUENCE:0
TRANSP:TRANSPARENT
DTEND;TZID=America/Chicago:20260305T113000
SUMMARY:Interim STAAR - Science Make-up (for 8th graders only)
CLASS:PUBLIC
DESCRIPTION:Body \n\nStudents who were absent on March 3rd will take the In
 terim STAAR\nMake-up today.  Please send your students to school with a f
 ully\ncharged chromebook.
DTSTAMP:20260421T082755Z
END:VEVENT
END:VCALENDAR