BEGIN:VCALENDAR
VERSION:2.0
PRODID:-//Drupal iCal API//EN
X-WR-CALNAME:Calendar of Events
X-WR-TIMEZONE:America/Chicago
BEGIN:VTIMEZONE
TZID:America/Chicago
X-LIC-LOCATION:America/Chicago
BEGIN:DAYLIGHT
TZNAME:CDT
TZOFFSETFROM:-0600
TZOFFSETTO:-0500
DTSTART:20260308T080000
END:DAYLIGHT
BEGIN:STANDARD
TZNAME:CST
TZOFFSETFROM:-0500
TZOFFSETTO:-0600
DTSTART:20251102T070000
END:STANDARD
END:VTIMEZONE
BEGIN:VEVENT
UID:dd62a731-578f-4583-b5a8-935f02b79e9b
DTSTART;TZID=America/Chicago:20260415T083000
SEQUENCE:0
TRANSP:TRANSPARENT
DTEND;TZID=America/Chicago:20260415T113000
SUMMARY:STAAR - Social Studies (8th graders only)
CLASS:PUBLIC
DESCRIPTION:Body \n\nOnly 8th graders will take the Social Studies STAAR. 
  Campus will be\nCLOSED for visitors and parents should refrain from check
 ing their\nstudents out while testing is underway. Testing will be from 8:
 30 -\n11:30ish am. Students should arrive at school with a fully charged\n
 chromebook.
DTSTAMP:20260421T100142Z
END:VEVENT
END:VCALENDAR